BEGIN:VCALENDAR
VERSION:2.0
PRODID:-//Moviment Kerŷgma - ECPv6.2.3.1//NONSGML v1.0//EN
CALSCALE:GREGORIAN
METHOD:PUBLISH
X-WR-CALNAME:Moviment Kerŷgma
X-ORIGINAL-URL:https://kerygma.org.mt
X-WR-CALDESC:Events for Moviment Kerŷgma
REFRESH-INTERVAL;VALUE=DURATION:PT1H
X-Robots-Tag:noindex
X-PUBLISHED-TTL:PT1H
BEGIN:VTIMEZONE
TZID:Europe/Malta
BEGIN:DAYLIGHT
TZOFFSETFROM:+0100
TZOFFSETTO:+0200
TZNAME:CEST
DTSTART:20150329T010000
END:DAYLIGHT
BEGIN:STANDARD
TZOFFSETFROM:+0200
TZOFFSETTO:+0100
TZNAME:CET
DTSTART:20151025T010000
END:STANDARD
BEGIN:DAYLIGHT
TZOFFSETFROM:+0100
TZOFFSETTO:+0200
TZNAME:CEST
DTSTART:20160327T010000
END:DAYLIGHT
BEGIN:STANDARD
TZOFFSETFROM:+0200
TZOFFSETTO:+0100
TZNAME:CET
DTSTART:20161030T010000
END:STANDARD
BEGIN:DAYLIGHT
TZOFFSETFROM:+0100
TZOFFSETTO:+0200
TZNAME:CEST
DTSTART:20170326T010000
END:DAYLIGHT
BEGIN:STANDARD
TZOFFSETFROM:+0200
TZOFFSETTO:+0100
TZNAME:CET
DTSTART:20171029T010000
END:STANDARD
BEGIN:DAYLIGHT
TZOFFSETFROM:+0100
TZOFFSETTO:+0200
TZNAME:CEST
DTSTART:20180325T010000
END:DAYLIGHT
BEGIN:STANDARD
TZOFFSETFROM:+0200
TZOFFSETTO:+0100
TZNAME:CET
DTSTART:20181028T010000
END:STANDARD
BEGIN:DAYLIGHT
TZOFFSETFROM:+0100
TZOFFSETTO:+0200
TZNAME:CEST
DTSTART:20190331T010000
END:DAYLIGHT
BEGIN:STANDARD
TZOFFSETFROM:+0200
TZOFFSETTO:+0100
TZNAME:CET
DTSTART:20191027T010000
END:STANDARD
END:VTIMEZONE
BEGIN:VEVENT
DTSTART;TZID=Europe/Malta:20191215T090000
DTEND;TZID=Europe/Malta:20191215T123000
DTSTAMP:20260422T012734
CREATED:20191207T103721Z
LAST-MODIFIED:20191207T103834Z
UID:6214-1576400400-1576413000@kerygma.org.mt
SUMMARY:Irtir tal-Avvent
DESCRIPTION:
URL:https://kerygma.org.mt/eventpage/irtir-tal-avvent/
LOCATION:Ċentru Kulturali Kerŷgma\, Ċentru Kulturali Kerŷgma\, Rabat\, Malta
CATEGORIES:Adolexxenti,Adulti,Advent.,Christmas,Familja,Għall-Kulħadd,Irtir,Tfal,Żgħażagħ
ATTACH;FMTTYPE=image/jpeg:https://kerygma.org.mt/wp-content/uploads/2019/12/received_456204245096910.jpeg
END:VEVENT
BEGIN:VEVENT
DTSTART;TZID=Europe/Malta:20190615T180000
DTEND;TZID=Europe/Malta:20190615T210000
DTSTAMP:20260422T012734
CREATED:20190607T143408Z
LAST-MODIFIED:20190607T143429Z
UID:6118-1560621600-1560632400@kerygma.org.mt
SUMMARY:Father's Day Celebration
DESCRIPTION:
URL:https://kerygma.org.mt/eventpage/fathers-day-celebration-3/
LOCATION:Ċentru Kulturali Kerŷgma\, Ċentru Kulturali Kerŷgma\, Rabat\, Malta
CATEGORIES:Familja,Għal Kulħadd,Soċjali,Spiritwali
END:VEVENT
BEGIN:VEVENT
DTSTART;TZID=Europe/Malta:20180804T193000
DTEND;TZID=Europe/Malta:20180804T223000
DTSTAMP:20260422T012734
CREATED:20180723T074404Z
LAST-MODIFIED:20180723T074458Z
UID:5927-1533411000-1533421800@kerygma.org.mt
SUMMARY:Ikla Maltija
DESCRIPTION:Prezz  \nAdulti:  €15 \nTfal (8-16): €8 \nTfal (-8): b’xejn \n  \nL-ewwel Platt \nŻebbuġ\, Ħobż biż-żejt\, Ajoli\, Bigilla\, Ġbejniet\, Fażola\, Galletti u Torta \n  \nIt-Tieni Platt \nBraġjoli u Patata l-forn \n  \nDeżerta u Kafe \nTazza Nbid jew soft drink u  nofs littru ilma
URL:https://kerygma.org.mt/eventpage/ikla-maltija-3/
LOCATION:Ċentru Kulturali Kerŷgma\, Ċentru Kulturali Kerŷgma\, Rabat\, Malta
CATEGORIES:Familja,Għal Kulħadd
ATTACH;FMTTYPE=image/jpeg:https://kerygma.org.mt/wp-content/uploads/2018/07/Ikla-Maltija-poster.jpg
END:VEVENT
BEGIN:VEVENT
DTSTART;TZID=Europe/Malta:20180616T183000
DTEND;TZID=Europe/Malta:20180616T200000
DTSTAMP:20260422T012734
CREATED:20180610T205649Z
LAST-MODIFIED:20180610T205727Z
UID:5905-1529173800-1529179200@kerygma.org.mt
SUMMARY:Father's Day Celebration
DESCRIPTION:Confirm your attendance by phoning on 99110888 by Wednesday the 13th of June 2018.
URL:https://kerygma.org.mt/eventpage/fathers-day-celebration-2/
LOCATION:Ċentru Kulturali Kerŷgma\, Ċentru Kulturali Kerŷgma\, Rabat\, Malta
CATEGORIES:Familja,Għal Kulħadd
ATTACH;FMTTYPE=image/jpeg:https://kerygma.org.mt/wp-content/uploads/2018/06/image001.jpg
END:VEVENT
BEGIN:VEVENT
DTSTART;TZID=Europe/Malta:20180513T100000
DTEND;TZID=Europe/Malta:20180513T120000
DTSTAMP:20260422T012734
CREATED:20180419T193043Z
LAST-MODIFIED:20180512T115958Z
UID:5846-1526205600-1526212800@kerygma.org.mt
SUMMARY:Mother's Day Celebration
DESCRIPTION:
URL:https://kerygma.org.mt/eventpage/mothers-day-celebration-3/
LOCATION:Ċentru Kulturali Kerŷgma\, Ċentru Kulturali Kerŷgma\, Rabat\, Malta
CATEGORIES:Familja,Għal Kulħadd,Soċjali,Spiritwali
ATTACH;FMTTYPE=image/jpeg:https://kerygma.org.mt/wp-content/uploads/2018/04/Mothers-Day-poster.jpg
END:VEVENT
BEGIN:VEVENT
DTSTART;TZID=Europe/Malta:20171210T083000
DTEND;TZID=Europe/Malta:20171210T123000
DTSTAMP:20260422T012734
CREATED:20171127T092243Z
LAST-MODIFIED:20171127T092243Z
UID:5716-1512894600-1512909000@kerygma.org.mt
SUMMARY:IRTIR AVVENT GĦALL-FAMILJA
DESCRIPTION:
URL:https://kerygma.org.mt/eventpage/irtir-avvent-ghall-familja/
LOCATION:Ċentru Kulturali Kerŷgma\, Ċentru Kulturali Kerŷgma\, Rabat\, Malta
CATEGORIES:Adulti,Advent.,Christmas,Familja,Irtir,Milied,Tfal
ATTACH;FMTTYPE=image/jpeg:https://kerygma.org.mt/wp-content/uploads/2017/11/He-is-coming-poster.jpg
END:VEVENT
BEGIN:VEVENT
DTSTART;TZID=Europe/Malta:20160903T193000
DTEND;TZID=Europe/Malta:20160903T223000
DTSTAMP:20260422T012734
CREATED:20160821T233452Z
LAST-MODIFIED:20160821T233723Z
UID:5130-1472931000-1472941800@kerygma.org.mt
SUMMARY:Ikla Maltija
DESCRIPTION:Ikla Maltija fiċ-Ċentru Kulturali Kerŷgma.\n  \nPrezz għall-adulti:                            €15\nPrezz għat-tfal (8-16-il sena):        €8\nPrezz għat-tfal (taħt it-8snin):       b’xejn (Kids’ Menu)\n  \n  \nBooking sal-Erbgħa 31 t’Awwissu.\n  \nIkel:\nL-ewwel Platt\nŻebbuġ\, Ħobż biż-Żejt u Ajoli\, Bigilla\, Ġbejniet\, Fażola u Galletti\, Fwied tal-Majjal u Sfineġ \n  \nIt-Tieni Platt\nAdulti: Braġoli u Patata l-Forn \nTfal: Hot Dog u Patata l-Forn \n  \nDeżerta\nĠelat Malti\, Bajtar tax-Xewk\, Mqaret u Kafé \n  \nInklużi fil-Prezz\nTazza nbid jew soft drink.
URL:https://kerygma.org.mt/eventpage/ikla-maltija/
LOCATION:Ċentru Kulturali Kerŷgma\, Ċentru Kulturali Kerŷgma\, Rabat\, Malta
CATEGORIES:Familja,Għal Kulħadd,Soċjali
ATTACH;FMTTYPE=image/jpeg:https://kerygma.org.mt/wp-content/uploads/2016/08/WINEPIZZA_A4-poster-tall.jpg
END:VEVENT
BEGIN:VEVENT
DTSTART;TZID=Europe/Malta:20160619T093000
DTEND;TZID=Europe/Malta:20160619T110000
DTSTAMP:20260422T012734
CREATED:20160601T205550Z
LAST-MODIFIED:20160601T205550Z
UID:4826-1466328600-1466334000@kerygma.org.mt
SUMMARY:Father's Day Celebration
DESCRIPTION:A Mass will be held during which we will celebrate Father’s Day. A gift will be given to all fathers. Book your father’s presence by phoning 99110888 by the 17th of June.
URL:https://kerygma.org.mt/eventpage/fathers-day-celebration/
LOCATION:Ċentru Kulturali Kerŷgma\, Ċentru Kulturali Kerŷgma\, Rabat\, Malta
CATEGORIES:Familja,Soċjali,Spiritwali
ATTACH;FMTTYPE=image/jpeg:https://kerygma.org.mt/wp-content/uploads/2016/06/FathersDay_A3Poster.jpg
END:VEVENT
BEGIN:VEVENT
DTSTART;TZID=Europe/Malta:20160603T180000
DTEND;TZID=Europe/Malta:20160603T190000
DTSTAMP:20260422T012734
CREATED:20160529T221938Z
LAST-MODIFIED:20160531T204752Z
UID:4776-1464976800-1464980400@kerygma.org.mt
SUMMARY:INFORMATION MEETING: A Drop of Mercy - Summer Club 2016
DESCRIPTION:More info about the summer club here!\nAktar informazzjoni dwar il-Klabb tas-Sajf hawn!\n 
URL:https://kerygma.org.mt/eventpage/information-meeting-a-drop-of-mercy-summer-club-2016/
LOCATION:Ċentru Kulturali Kerŷgma\, Ċentru Kulturali Kerŷgma\, Rabat\, Malta
CATEGORIES:Adolexxenti,Familja,Soċjali,Tfal,Żgħażagħ
ATTACH;FMTTYPE=image/jpeg:https://kerygma.org.mt/wp-content/uploads/2016/05/SUMMER-CLUB.jpg
END:VEVENT
BEGIN:VEVENT
DTSTART;TZID=Europe/Malta:20160318T183000
DTEND;TZID=Europe/Malta:20160320T150000
DTSTAMP:20260422T012734
CREATED:20160222T165451Z
LAST-MODIFIED:20160223T202045Z
UID:4632-1458325800-1458486000@kerygma.org.mt
SUMMARY:WEEKEND FAMILJA - Irtir Randan 2016
DESCRIPTION:“Il-Ħniena tiegħu\, il-Ħniena tagħna.”\nIl-Moviment Kerŷgma bit-tema ‘Għal impenn Kristjan fis-Soċjetà’ sa mill-bidu tiegħu kien iżomm iż-żmien tar-Randan bħala mument qawwi ta’ tiġdid u konverżjoni personali biex nikbru aktar fil-fidi u fl-imħabba tagħna lejn Alla. Għalhekk qed nipproponu WEEKEND FAMILJA; li ser issir bejn il-Ġimgħa 18 u l-Ħadd 20 ta’ Marzu 2016\, ġewwa s-Seminarju tal-Virtù r-Rabat. Okkażjoni li aħna qed niftxu għal kulħadd: adulti\, żgħażagħ\, adolexxenti\, u tfal\, u għall-familji sħaħ\, biex flimkien nikbru fil-fidi. \nIl-kelliem ewlieni ser ikun Fr. Ivan Attard O.P.\nNgħixu din l-esperjenza ta’ konverżjoni flimkien. Il-Mulej Ġesù u Ommna Marija jgħinuna f’dan il-pass ta’ bidla sinċiera. \nNiżżel l-Applikazzjoni minn hawn!\nNoti \n1. Il-ħlas isir mal-booking.\n2. Il-ħlas tal-irtir kollu jinkludi l-ikel kollu\, l-akkomodazzjoni u l-użu tal-façilitajiet.\n3. Dawk li jibbukkjaw għall-ġurnata biss (is-Sibt biss: il-prezz jinkludi 2 ikliet u 2 coffee breaks)\, (Ħadd biss: il-prezz jinkludi 1 ikla u 1 coffee break).\n4. Il-kmamar jitqassmu fuq bażi first booked first served.\n5. Imla formola GĦAL KULL PERSUNA li ser tattendi.\n6. Ċekkijiet għandhom jintbagħtu u jkunu pagabbli lill-“Moviment Kerŷgma”.\n7. Tfal taħt id-9 snin jiġu aċċettati BISS jekk akkumpanjati minn persuna adulta.\n8. L-Irtir jibda l-Ġimgoea fis-6.30pm u jispiçça l-Ħadd fit-3.30pm.\n9. Id-data tal-egħluq għall-bookings hija l-Ġimgoea\, 11 ta’ Marzu 2016.\n10. Għal aktar informazzjoni tista’ ċċempel lil Philip Borg fuq 21459942 jew ibgħat email fuq: info@kerygma.org.mt \nIbgħat il-formola flimkien mal-ħlas lil Moviment Kerŷgma\, Kunvent San Duminku\, Rabat RBT 2521
URL:https://kerygma.org.mt/eventpage/irtir-randan-2016/
LOCATION:Ċentru Kristu Ragħaj\, The Archbishop's Seminary 90\, Triq tal-Virtù Triq Tal-Virtu\, Rabat\, RBT 2604\, Malta
CATEGORIES:Adolexxenti,Adulti,Familja,Għall-Kulħadd,Irtir,Randan,Spiritwali,Tfal,Żgħażagħ
ATTACH;FMTTYPE=image/png:https://kerygma.org.mt/wp-content/uploads/2016/02/HNIENA-THUMB.png
ORGANIZER;CN="Moviment Ker%C5%B7gma":MAILTO:info@kerygma.org.mt
END:VEVENT
BEGIN:VEVENT
DTSTART;TZID=Europe/Malta:20151206T090000
DTEND;TZID=Europe/Malta:20151206T130000
DTSTAMP:20260422T012734
CREATED:20151101T210706Z
LAST-MODIFIED:20151101T210836Z
UID:4410-1449392400-1449406800@kerygma.org.mt
SUMMARY:Irtir Avvent 2015 - Il-Ġublew tal-Ħniena
DESCRIPTION:Il-Moviment Kerygma ser jiċċelebra il-ftuħ tal-Ġublew tal-Ħniena b’Familja flimkien mal-Mulej\, nhar il-Ħadd 6 ta’ Diçembru 2015 bejn id-9.00 u s-13:00. Miftuħa għall-Adulti\, Adolexxenti u Tfal fiċ-Ċentru Kulturali Kerŷgma\, Kunvent San Duminku\, ir-Rabat. Ser ikollna quddiesa\, konferenza dwar it-tema tal-Ġublew tal-Ħniena\, Mumenti ta’ riflessjoni u adorazzjoni\, videos u kant.
URL:https://kerygma.org.mt/eventpage/irtir-avvent-2015-il-gublew-tal-hniena/
LOCATION:Ċentru Kulturali Kerŷgma\, Ċentru Kulturali Kerŷgma\, Rabat\, Malta
CATEGORIES:Adolexxenti,Adulti,Familja,Spiritwali,Tfal,Żgħażagħ
ATTACH;FMTTYPE=image/jpeg:https://kerygma.org.mt/wp-content/uploads/2015/11/06December2015_GUBLEW-INVIT_220x100.jpg
END:VEVENT
BEGIN:VEVENT
DTSTART;TZID=Europe/Malta:20151002T190000
DTEND;TZID=Europe/Malta:20151002T200000
DTSTAMP:20260422T012734
CREATED:20151001T145609Z
LAST-MODIFIED:20151001T145610Z
UID:4324-1443812400-1443816000@kerygma.org.mt
SUMMARY:L-Esperjenza Tkompli - Prayer Cafè\, T4J & K4J
DESCRIPTION:Laqgħat ta’ kull nhar ta’ Ġimgħa għal-Kulħadd fiċ-Ċentru Kulturali Kerŷgma\, kull nhar ta’ Ġimgħa fis-19:00. Prayer Cafè għall-Adulti\, T4J għall-Adolexxenti u Żgħażagħ u K4J għat-Tfal.\n 
URL:https://kerygma.org.mt/eventpage/l-esperjenza-tkompli-prayer-cafe-t4j-k4j/
LOCATION:Ċentru Kulturali Kerŷgma\, Ċentru Kulturali Kerŷgma\, Rabat\, Malta
CATEGORIES:Adolexxenti,Adulti,Familja,Spiritwali,Tfal,Żgħażagħ
ATTACH;FMTTYPE=image/jpeg:https://kerygma.org.mt/wp-content/uploads/2015/10/KERYGMA-ISSUE-3-HAJJA_A3-Poster.jpg
ORGANIZER;CN="Moviment Ker%C5%B7gma":MAILTO:info@kerygma.org.mt
END:VEVENT
BEGIN:VEVENT
DTSTART;TZID=Europe/Malta:20150918T183000
DTEND;TZID=Europe/Malta:20150918T203000
DTSTAMP:20260422T012734
CREATED:20150816T165156Z
LAST-MODIFIED:20150816T173921Z
UID:4250-1442601000-1442608200@kerygma.org.mt
SUMMARY:SUMMER CLUB 2015 - Thanksgiving Celebration
DESCRIPTION:The SUMMER CLUB 2015 – Thanksgiving Celebration is an event which includes a performance by the children who participated in the Summer Club 2015. \n  \n\nDate: Friday 18th September 2015\nProgramm starts at: 6.30pm\nTickets: €3.00\n(Children under 3 and children who are performing go free)\nPrice includes a light snack and drink.\nAll children who participated in the K4J Summer Club will be given a small token.\nTickets from Kerygma Office at St. Dominic’s Priory\, Rabat  – 21459942.\n\nˆ
URL:https://kerygma.org.mt/eventpage/summer-club-2015-thanksgiving-celebration/
LOCATION:Ċentru Kulturali Kerŷgma\, Ċentru Kulturali Kerŷgma\, Rabat\, Malta
CATEGORIES:Familja,Soċjali,Spiritwali,Tfal
ATTACH;FMTTYPE=image/jpeg:https://kerygma.org.mt/wp-content/uploads/2015/08/CHILDREN-SUMMER-CLUB-POSTER.jpg
END:VEVENT
BEGIN:VEVENT
DTSTART;TZID=Europe/Malta:20150829T193000
DTEND;TZID=Europe/Malta:20150829T223000
DTSTAMP:20260422T012734
CREATED:20150816T174254Z
LAST-MODIFIED:20150816T174601Z
UID:4256-1440876600-1440887400@kerygma.org.mt
SUMMARY:Lejla Maltija
DESCRIPTION:Is-Sibt 29 t’Awwissu 2015\n\nL-ewwel platt: \nŻebbuġ mimli\, ħobż biż-żejt u aljoli\, bigilla\, ġbejniet\, fażola\, galletti\, \nfwied tal-majjal u sfineġ \nIt-tieni platt: \nBraġoli u patata l-forn – adulti \nHot dog u patata l-forn – tfal \nDeżerta: \nProfiterols\, bajtar tax-xewk\, kafè u mqaret \nInkluż fil-prezz: \nTazza nbid jew soft drink \n  \n\nPost: Moviment Kerŷgma\, Rabat\nĦin: 7.30pm\nPrezz:\n\nAdulti – €15\nTfal bejn 8 u 16-il sena €8 (Kids’ Menu)\nTfal taħt it-8 snin – b’xejn (Kids’ Menu)\n\n\nBookings sal-Erbgħa 26 t’Awwissu\n\nTicket Hotline: 99110888\n 
URL:https://kerygma.org.mt/eventpage/4256/
LOCATION:Ċentru Kulturali Kerŷgma\, Ċentru Kulturali Kerŷgma\, Rabat\, Malta
CATEGORIES:Adolexxenti,Adulti,Familja,Soċjali,Tfal,Żgħażagħ
ATTACH;FMTTYPE=image/jpeg:https://kerygma.org.mt/wp-content/uploads/2015/08/LEJLAMALTIJA_AUG2015.jpg
END:VEVENT
BEGIN:VEVENT
DTSTART;TZID=Europe/Malta:20150510T100000
DTEND;TZID=Europe/Malta:20150510T110000
DTSTAMP:20260422T012734
CREATED:20150426T083525Z
LAST-MODIFIED:20150426T083525Z
UID:4051-1431252000-1431255600@kerygma.org.mt
SUMMARY:JUM L-OMM - QUDDIESA GĦALL-OMMIJIET
DESCRIPTION:
URL:https://kerygma.org.mt/eventpage/jum-l-omm-quddiesa-ghall-ommijiet/
CATEGORIES:Adolexxenti,Adulti,Familja,Spiritwali,Tfal,Żgħażagħ
END:VEVENT
BEGIN:VEVENT
DTSTART;TZID=Europe/Malta:20150508T190000
DTEND;TZID=Europe/Malta:20150508T200000
DTSTAMP:20260422T012734
CREATED:20150426T083052Z
LAST-MODIFIED:20150426T083249Z
UID:4049-1431111600-1431115200@kerygma.org.mt
SUMMARY:Prayer Cafè - IL-ĦTIEĠA TAL-OMM TAS-SEMA U TAL-ART
DESCRIPTION:Diskussjoni u Kafè fiç-Çentru Kulturali Kerygma. Rigali fost dawk li jattendu. \n 
URL:https://kerygma.org.mt/eventpage/prayer-cafe-il-htiega-tal-omm-tas-sema-u-tal-art/
CATEGORIES:Adulti,Familja,Spiritwali,Żgħażagħ
ATTACH;FMTTYPE=image/jpeg:https://kerygma.org.mt/wp-content/uploads/2015/04/JUM-L-OMM-A3-POSTER.jpg
END:VEVENT
BEGIN:VEVENT
DTSTART;TZID=Europe/Malta:20150425T193000
DTEND;TZID=Europe/Malta:20150425T230000
DTSTAMP:20260422T012734
CREATED:20150409T193848Z
LAST-MODIFIED:20150411T145129Z
UID:4021-1429990200-1430002800@kerygma.org.mt
SUMMARY:The Great Pasta Night 2015
DESCRIPTION:The Great Pasta Night on Saturday the 25th at 19:30 at the Kerŷgma Cultural Centre\, Rabat. Come along with your family and enjoy the evening with us over a plate of Pasta. The price includes appetisers\, three types of pasta (Lasagna\, Penne Carbonara & Cellentani Bolognese)\, dessert\, free flowing wine and soft drinks. \nPrice\nAdults: €12.50\nChildren (5 to 13 years): €6 \nBooking Hotline: \n99110888\nLatest booking by Monday the 20th of April 2015. \n  \n \n  \n 
URL:https://kerygma.org.mt/eventpage/the-great-pasta-night-2015/
CATEGORIES:Adolexxenti,Adulti,Familja,Soċjali,Tfal,Żgħażagħ
ATTACH;FMTTYPE=image/jpeg:https://kerygma.org.mt/wp-content/uploads/2015/04/PASTA.jpg
END:VEVENT
BEGIN:VEVENT
DTSTART;TZID=Europe/Malta:20150410T190000
DTEND;TZID=Europe/Malta:20150410T200000
DTSTAMP:20260422T012734
CREATED:20150409T135814Z
LAST-MODIFIED:20150409T135948Z
UID:4019-1428692400-1428696000@kerygma.org.mt
SUMMARY:Il-Ferħ tal-Vanġelu: Prayer Cafè\, T4J u K4J
DESCRIPTION:Laqgħat li jsiru kull nhar ta’ Ġimgħa fis-19:00. \nPrayer Cafè għal-Kbar\, Teens 4 Jesus għaż-żgħażagħ u l-adolexxenti u Kids 4 Jesus għat-tfal.
URL:https://kerygma.org.mt/eventpage/prayer-cafe-t4j-u-k4j/
CATEGORIES:Adolexxenti,Adulti,Familja,Spiritwali,Tfal,Żgħażagħ
ATTACH;FMTTYPE=image/jpeg:https://kerygma.org.mt/wp-content/uploads/2014/06/Il-FERH-VANGELU.jpg
ORGANIZER;CN="Moviment Ker%C5%B7gma":MAILTO:info@kerygma.org.mt
END:VEVENT
BEGIN:VEVENT
DTSTART;TZID=Europe/Malta:20150306T180000
DTEND;TZID=Europe/Malta:20150308T160000
DTSTAMP:20260422T012734
CREATED:20150221T031224Z
LAST-MODIFIED:20150221T120806Z
UID:3875-1425664800-1425830400@kerygma.org.mt
SUMMARY:Irtir Randan 2015
DESCRIPTION:IRTIR GĦALL-FAMILJA | 6-8 TA’ MARZU 2015 – SEMINARJU\, RABAT \nIl-Moviment Kerŷgma bit-tema tiegħu ‘Għal impenn Kristjan fis-Soċjetà sa mill-bidu tiegħu kien iżomm iż-żmien tar-Randan bħala mument qawwi ta’ tiġdid u konverżjoni personali biex nikbru aktar fil-fidi tagħna u fl-imħabba tagħna lejn Alla. Qed nipproponu ESPERJENZA ĠESÙ li ser issir bejn il-Ġimgħa 6 u l-Ħadd 8 ta’ Marzu 2015\, fiċ-ĊENTRU KRISTU RAGĦAJ ġewwa s-SEMINARJU tal-Virtù r-Rabat. Okkażjoni li aħna qed niftħu għal kulħadd: adulti\, żgħażagħ\, adoloxxenti\, pre- adoloxxenti u tfal\, u għall-familji sħaħ\, biex flimkien nikbru fil-fidi. Ngħixu din l-esperjenza ta’ konverżjoni flimkien. \nIl-Mulej Ġesù u Ommna Marija jgħinuna f’dan il-pass ta’ bidla sinċiera. \n\nĦlas \n\n €60 kull persuna\n Tfal (6-11) €35\n Min jixtieq jattendi s-Sibt biss €30 u l-Ħadd biss €18\n Irtir biss (mingħajr ikel) €10 Registration Fee\n\n  \nNoti \n\nIl-ħlas isir mal-booking.\nIl-ħlas tal-irtir kollu jinkludi l-ikel kollu\, l-akkomodazzjoni u l-użu tal-faċilitajiet.\nDawk li jibbukkjaw għall-ġurnata biss (is-Sibt biss: il-prezz jinkludi 2 ikliet u 2 coffee breaks)\, (Ħadd biss: il-prezz jinkludi 1 ikla u 1 coffee break).\nIl-kmamar jitqassmu fuq bażi first booked first served.\nImla formola GĦAL KULL PERSUNA li ser tattendi.\nĊekkijiet għandhom jintbagħtu u jkunu pagabbli lill-“Moviment Kerŷgma”.\nTfal taħt id-9 snin jiġu aċċettati BISS jekk akkumpanjati minn persuna\nL-Irtir jibda l-Ġimgħa fis-6.30pm u jispiċċa l-Ħadd fit-3.30pm.\nId-data tal-egħluq għall-bookings hija l-Ġimgħa\, 27 ta’ Frar 2015.\nGħal aktar informazzjoni tista’ ċċempel lil Philip Borg fuq 21459942 jew ibgħat email fuq: info@kerygma.org.mt.\nNiżżel il formola u ibgħatha mal-ħlas lill-Moviment Kerŷgma\, Kunvent Duminku\, Rabat RBT 2521\n\nNiżżel il-formola minn hawn!
URL:https://kerygma.org.mt/eventpage/irtir-randan-2015/
LOCATION:Ċentru Kristu Ragħaj\, The Archbishop's Seminary 90\, Triq tal-Virtù Triq Tal-Virtu\, Rabat\, RBT 2604\, Malta
CATEGORIES:Familja,Randan,Spiritwali
ATTACH;FMTTYPE=image/jpeg:https://kerygma.org.mt/wp-content/uploads/2015/01/SALIB_small.jpg
ORGANIZER;CN="Moviment Ker%C5%B7gma":MAILTO:info@kerygma.org.mt
END:VEVENT
BEGIN:VEVENT
DTSTART;TZID=Europe/Malta:20150227T190000
DTEND;TZID=Europe/Malta:20150227T200000
DTSTAMP:20260422T012734
CREATED:20150221T121727Z
LAST-MODIFIED:20150221T122044Z
UID:3887-1425063600-1425067200@kerygma.org.mt
SUMMARY:Il-Ferħ tal-Vanġelu - Prayer Cafè\, T4J & K4J
DESCRIPTION:Laqgħat ta’ kull nhar ta’ Ġimgħa għal-Kulħadd!
URL:https://kerygma.org.mt/eventpage/il-ferh-tal-vangelu-prayer-cafe-t4j-k4j/
CATEGORIES:Adolexxenti,Adulti,Familja,Spiritwali,Tfal,Żgħażagħ
ATTACH;FMTTYPE=image/jpeg:https://kerygma.org.mt/wp-content/uploads/2014/06/Il-FERH-VANGELU.jpg
ORGANIZER;CN="Moviment Ker%C5%B7gma":MAILTO:info@kerygma.org.mt
END:VEVENT
END:VCALENDAR