BEGIN:VCALENDAR
VERSION:2.0
PRODID:-//Moviment Kerŷgma - ECPv6.2.3.1//NONSGML v1.0//EN
CALSCALE:GREGORIAN
METHOD:PUBLISH
X-ORIGINAL-URL:https://kerygma.org.mt
X-WR-CALDESC:Events for Moviment Kerŷgma
REFRESH-INTERVAL;VALUE=DURATION:PT1H
X-Robots-Tag:noindex
X-PUBLISHED-TTL:PT1H
BEGIN:VTIMEZONE
TZID:Europe/Malta
BEGIN:DAYLIGHT
TZOFFSETFROM:+0100
TZOFFSETTO:+0200
TZNAME:CEST
DTSTART:20150329T010000
END:DAYLIGHT
BEGIN:STANDARD
TZOFFSETFROM:+0200
TZOFFSETTO:+0100
TZNAME:CET
DTSTART:20151025T010000
END:STANDARD
BEGIN:DAYLIGHT
TZOFFSETFROM:+0100
TZOFFSETTO:+0200
TZNAME:CEST
DTSTART:20160327T010000
END:DAYLIGHT
BEGIN:STANDARD
TZOFFSETFROM:+0200
TZOFFSETTO:+0100
TZNAME:CET
DTSTART:20161030T010000
END:STANDARD
BEGIN:DAYLIGHT
TZOFFSETFROM:+0100
TZOFFSETTO:+0200
TZNAME:CEST
DTSTART:20170326T010000
END:DAYLIGHT
BEGIN:STANDARD
TZOFFSETFROM:+0200
TZOFFSETTO:+0100
TZNAME:CET
DTSTART:20171029T010000
END:STANDARD
BEGIN:DAYLIGHT
TZOFFSETFROM:+0100
TZOFFSETTO:+0200
TZNAME:CEST
DTSTART:20180325T010000
END:DAYLIGHT
BEGIN:STANDARD
TZOFFSETFROM:+0200
TZOFFSETTO:+0100
TZNAME:CET
DTSTART:20181028T010000
END:STANDARD
END:VTIMEZONE
BEGIN:VEVENT
DTSTART;TZID=Europe/Malta:20180324T080000
DTEND;TZID=Europe/Malta:20180330T120000
DTSTAMP:20260421T233004
CREATED:20180317T142922Z
LAST-MODIFIED:20180325T205045Z
UID:5792-1521878400-1522411200@kerygma.org.mt
SUMMARY:Il-Mejda Tkellimna
DESCRIPTION:  \n \nĦinijiet tal-ftuħ:\nis-Sibt 24 u l-Ħadd 25 ta’ Marzu :           08:00 – 20:00 \nIt-Tnejn 26 sal-Erbgħa 28 ta’ Marzu:     17:00 – 20:00 \nIl-Ħamis ix-Xirka (29 ta’ Marzu):           19:30 – 22:00 \nIl-Ġimgħa l-Kbira (30 ta’ Marzu):           08:00 – 12:00 \n  \n  \n  \n  \n  \n  \n  \n  \n  \n  \n  \n  \n  \n  \n  \n  \n  \n  \n  \n  \n  \n  \n  \n  \n  \n\n		\n		\n			\n				\n			\n				\n				Il-Mejda Tkellimna 2018 – Il-Qabar ta’ Kristu\n				\n			\n				\n			\n				\n				Il-Mejda Tkellimna 2018 – Dettal\n				\n			\n				\n			\n				\n				Il-Mejda Tkellimna 2018 – Dettal\n				\n			\n				\n			\n				\n				Il-Mejda Tkellimna 2018 – Dettal\n				\n			\n				\n			\n				\n				Il-Mejda Tkellimna 2018 – Dettal\n				\n			\n				\n			\n				\n				Il-Mejda Tkellimna 2018 – Dettal
URL:https://kerygma.org.mt/eventpage/il-mejda-tkellimna/
LOCATION:Ċentru Kulturali Kerŷgma\, Ċentru Kulturali Kerŷgma\, Rabat\, Malta
CATEGORIES:Exhibition,Għal Kulħadd,Randan,Spiritwali,Wirja
ATTACH;FMTTYPE=image/jpeg:https://kerygma.org.mt/wp-content/uploads/2018/03/IL-MEJDA-TKELLIMNA_THUMB.jpg
ORGANIZER;CN="Moviment Ker%C5%B7gma":MAILTO:info@kerygma.org.mt
END:VEVENT
BEGIN:VEVENT
DTSTART;TZID=Europe/Malta:20161118T190000
DTEND;TZID=Europe/Malta:20161127T200000
DTSTAMP:20260421T233004
CREATED:20161107T084408Z
LAST-MODIFIED:20161107T085020Z
UID:5277-1479495600-1480276800@kerygma.org.mt
SUMMARY:Christmas Market 2016
DESCRIPTION:Christmas Market 2016  at the Kerŷgma Cultural Centre\, St. Dominic’s Priory\, Rabat. \nFrom Friday 18 th to Sunday 27 th November\, 2016. \nIncludes: \n\n\nCrib Exhibition\n\n\n sale of Christmas Gifts at discounted prices\n\n\nTraditional Maltese Christmas Food\n\n\nCafeteria.\n\n\nEntrance is Free. \nOpening Hours: \nSaturday 19th \, Sunday 20th \, Saturday 26th \, and Sunday 27th November from 08:00 till 20:00 \nWeekdays from 17.00 till 20.00 \n  \n  \n  \n  \n  \n  \n  \n  \n\n		\n		\n			\n				\n			\n				\n				Christmas Market 2015\n				\n			\n				\n			\n				\n				Christmas Market 2015\n				\n			\n				\n			\n				\n				Christmas Market 2015\n				\n			\n				\n			\n				\n				Christmas Market 2015\n				\n			\n				\n			\n				\n				Christmas Market 2015\n				\n			\n				\n			\n				\n				Christmas Market 2015\n				\n			\n				\n			\n				\n				Christmas Market 2015\n				\n			\n				\n			\n				\n				For Sale!\n				\n			\n				\n			\n				\n				Christmas Market 2015\n				\n			\n				\n			\n				\n				Christmas Market 2015\n				\n			\n				\n			\n				\n				Christmas Market 2015\n				\n			\n				\n			\n				\n				Christmas Market 2015\n				\n			\n				\n			\n				\n				Christmas Market 2015\n				\n			\n				\n			\n				\n				Christmas Market 2015\n				\n			\n				\n			\n				\n				Christmas Market 2015\n				\n			\n				\n			\n				\n				Christmas Market 2015\n				\n			\n				\n			\n				\n				Christmas Market 2015\n				\n			\n				\n			\n				\n				Christmas Market 2015\n				\n			\n				\n			\n				\n				Christmas Market 2015\n				\n			\n				\n			\n				\n				Christmas Market 2015\n				\n			\n				\n			\n				\n				Il-Wirja “Il-Presepju fil-Kunvent” \n				\n			\n				\n			\n				\n				Il-Kafetterija 2015\n				\n			\n				\n			\n				\n				Il-Kafetterija 2015\n				\n			\n				\n			\n				\n				2014 – Cafeteria & Food Stall\n				\n			\n				\n			\n				\n				2014 – Gingerbread biscuits \n				\n			\n				\n			\n				\n				2014 – Qagħaq tal-għasel
URL:https://kerygma.org.mt/eventpage/christmas-market-2016/
LOCATION:Ċentru Kulturali Kerŷgma\, Ċentru Kulturali Kerŷgma\, Rabat\, Malta
CATEGORIES:Christmas,Għall-Kulħadd,Milied,Soċjali,Wirja
ATTACH;FMTTYPE=image/jpeg:https://kerygma.org.mt/wp-content/uploads/2015/11/IMG_9344.jpg
END:VEVENT
BEGIN:VEVENT
DTSTART;TZID=Europe/Malta:20150328T090000
DTEND;TZID=Europe/Malta:20150403T120000
DTSTAMP:20260421T233004
CREATED:20150311T203330Z
LAST-MODIFIED:20150329T174953Z
UID:3912-1427533200-1428062400@kerygma.org.mt
SUMMARY:Il-Mejda Tkellimna - Ir-raba' edizzjoni
DESCRIPTION:Wirja ta’ mejda tal-apppostli li tiftaħ Minn-nhar is-Sibt 28 ta’ Marzu sal-Ġimgħa 3 ta’ April 2015 \nIkun hemm Kafetterija b’ikel tradizzjonali Malti ta’ żmien ir-Randan u stand b’kotba reliġjużi. \n  \nĦinijiet tal-ftuħ:\nIs-Sibt 28 ta’ Marzu:    09:00 – 12:00\, 17:00 – 20:00 \nIl-Ħadd 29 ta’ Marzu:  09:00 – 12:00\, 17:00 – 20:00 \nIt Tnejn 30 ta’ Marzu:  17:00 – 20:00 \nIt-Tlieta 31 ta’ Marzu:  09:00 – 12:00\, 17:00 – 20:00 \nL-Erbgħa 1 t’April:        17:00 – 20:00 \nIl-Ħamis 2 t’April:        20:00 – 22:00 \nIl-Ġimgħa l-Kbira:       08:00 – 12:00 \n  \nDawk li jattendu din il-wirja jistgħu jimlew u jġibu magħhom l-inviti li qiegħdin jiġu mqassma f’dawn il-ġranet\, u jidħlu fiċ-ċans li jirbħu statwa ta’ Kristu Rxoxt. \n  \nXi ritratti mill-wirja tas-sena l-0ħra (2014): \n\n		\n		\n			\n				\n			\n				\n				2014 – Il-Mejda \n				\n			\n				\n			\n				\n				2014 – Il-Mejda\n				\n			\n				\n			\n				\n				2014 – Il-Qabar ta’ Kristu\n				\n			\n				\n			\n				\n				2014 – Il-Qabar ta’ Kristu\n				\n			\n				\n			\n				\n				2014 – Via Crucis\n				\n			\n				\n			\n				\n				2014 – Via Crucis\n				\n			\n				\n			\n				\n				2014 – Via Crucis\n				\n			\n				\n			\n				\n				2014 – Via Crucis\n				\n			\n				\n			\n				\n				2014 – Via Crucis\n				\n			\n				\n			\n				\n				2014 – Il-Mejda\n				\n			\n				\n			\n				\n				2014 – Il-Qabar ta’ Kristu
URL:https://kerygma.org.mt/eventpage/il-mejda-tkellimna-ir-raba-edizzjoni/
CATEGORIES:Exhibition,Randan,Soċjali,Spiritwali,Wirja
ATTACH;FMTTYPE=image/jpeg:https://kerygma.org.mt/wp-content/uploads/2015/03/ILMEJDA-TKELLIMNA.jpg
ORGANIZER;CN="Moviment Ker%C5%B7gma":MAILTO:info@kerygma.org.mt
END:VEVENT
END:VCALENDAR