BEGIN:VCALENDAR
VERSION:2.0
PRODID:-//Moviment Kerŷgma - ECPv6.2.3.1//NONSGML v1.0//EN
CALSCALE:GREGORIAN
METHOD:PUBLISH
X-ORIGINAL-URL:https://kerygma.org.mt/mt
X-WR-CALDESC:Events for Moviment Kerŷgma
REFRESH-INTERVAL;VALUE=DURATION:PT1H
X-Robots-Tag:noindex
X-PUBLISHED-TTL:PT1H
BEGIN:VTIMEZONE
TZID:Europe/Malta
BEGIN:DAYLIGHT
TZOFFSETFROM:+0100
TZOFFSETTO:+0200
TZNAME:CEST
DTSTART:20180325T010000
END:DAYLIGHT
BEGIN:STANDARD
TZOFFSETFROM:+0200
TZOFFSETTO:+0100
TZNAME:CET
DTSTART:20181028T010000
END:STANDARD
END:VTIMEZONE
BEGIN:VEVENT
DTSTART;TZID=Europe/Malta:20180324T080000
DTEND;TZID=Europe/Malta:20180330T120000
DTSTAMP:20260422T012934
CREATED:20180317T142922Z
LAST-MODIFIED:20180325T205046Z
UID:5797-1521878400-1522411200@kerygma.org.mt
SUMMARY:Il-Mejda Tkellimna
DESCRIPTION:  \n \nĦinijiet tal-ftuħ:\nis-Sibt 24 u l-Ħadd 25 ta’ Marzu :           08:00 – 20:00 \nIt-Tnejn 26 sal-Erbgħa 28 ta’ Marzu:     17:00 – 20:00 \nIl-Ħamis ix-Xirka (29 ta’ Marzu):           19:30 – 22:00 \nIl-Ġimgħa l-Kbira (30 ta’ Marzu):           08:00 – 12:00 \n  \n  \n  \n  \n  \n  \n  \n  \n  \n  \n  \n  \n  \n  \n  \n  \n  \n  \n  \n  \n  \n  \n  \n  \n  \n\n		\n		\n			\n				\n			\n				\n				Il-Mejda Tkellimna 2018 – Il-Qabar ta’ Kristu\n				\n			\n				\n			\n				\n				Il-Mejda Tkellimna 2018 – Dettal\n				\n			\n				\n			\n				\n				Il-Mejda Tkellimna 2018 – Dettal\n				\n			\n				\n			\n				\n				Il-Mejda Tkellimna 2018 – Dettal\n				\n			\n				\n			\n				\n				Il-Mejda Tkellimna 2018 – Dettal\n				\n			\n				\n			\n				\n				Il-Mejda Tkellimna 2018 – Dettal
URL:https://kerygma.org.mt/mt/eventpage/il-mejda-tkellimna/
LOCATION:Ċentru Kulturali Kerŷgma\, Ċentru Kulturali Kerŷgma\, Rabat\, Malta
CATEGORIES:Exhibition,Għal Kulħadd,Randan,Spiritwali,Wirja
ORGANIZER;CN="Moviment Ker%C5%B7gma":MAILTO:info@kerygma.org.mt
END:VEVENT
END:VCALENDAR